BEGIN:VCALENDAR
VERSION:2.0
PRODID:-//eventon.com NONSGML v1.0//EN
CALSCALE:GREGORIAN
METHOD:PUBLISH
BEGIN:VEVENT
UID:69e7d6d01649d
DTSTAMP:20260421T195808Z
DTSTART:20171006
DTEND:20171007
LOCATION:SMS Societas medicinae sinensis Franz-Joseph StraÃŸe 38\,  80801 MÃ¼nchen
SUMMARY:SMS-Kongress vom 6. â€“ 8. Oktober 2017 in Tutzing b. MÃ¼nchen
DESCRIPTION:Chinesische Medizin im klinischen Alltag Grundlagen\,  Anwendun
 g und Wissenschaft Dr. Josef Hummelsberger\,  Dr. Rainer NÃ¶gel KongressprÃ
 ¤sident PrÃ¤sident der SMS Internationale Gesellschaft fÃ¼r Chinesische Med
 izin e. V. Franz-Joseph-Str. 38\,  80801 MÃ¼nchen Anmeldung zum SMS-Kongres
 s 6.â€“ 8. Oktober 2017 Ich nehme am gesamten Kongress (inkl. PrÃ¤- und Pos
 t-Kongress-Workshops) teil. Freitag 9.30 â€“[..]\nhttps://www.naturmed.de/b
 log/events/5-kongress-der-sms/
URL:https://www.naturmed.de/blog/events/5-kongress-der-sms/
END:VEVENT
END:VCALENDAR