BEGIN:VCALENDAR
VERSION:2.0
PRODID:-//eventon.com NONSGML v1.0//EN
CALSCALE:GREGORIAN
METHOD:PUBLISH
BEGIN:VEVENT
UID:69e7d6d0c5bdf
DTSTAMP:20260421T195808Z
DTSTART:20170622
DTEND:20170623
LOCATION:Verband Physikalische Therapie VPT Sachsen VPT-Kurszentrum Döbelner Straße 130\,  01129 Dresden
SUMMARY:Weiterbildung funktionsbezogene Physiotherapie
DESCRIPTION:Fortbildung funktionsbezogene Physiotherapie Beschreibung &amp;
  Ziele Die Weiterbildung funktionsbezogene Physiotherapie dauert vier Tage
 . In dieser Zeit lernen Sie schwierige Behandlungsmethoden und anderes Hier
  einige Beispiele: Sie erlernen die Verfahren der Muskeltests und die denkb
 aren Resultate genau so wie die wichtigsten Untersuchungsgrundlagen. Es geh
 t um die Neurolymphatische und neurovasculäre Reflexpunkte sowie die[..]\n
 https://www.naturmed.de/blog/events/weiterbildung-funktionsbezogene-physiot
 herapie/
URL:https://www.naturmed.de/blog/events/weiterbildung-funktionsbezogene-physiotherapie/
END:VEVENT
END:VCALENDAR