BEGIN:VCALENDAR
VERSION:2.0
PRODID:-//eventon.com NONSGML v1.0//EN
CALSCALE:GREGORIAN
METHOD:PUBLISH
BEGIN:VEVENT
UID:69ea08a7deded
DTSTAMP:20260423T115519Z
DTSTART:20200519
DTEND:20200520
LOCATION:Evangelische Tagungsstätte Wildbad Taubertalweg 42\,  91541 Rothenburg ob der Tauber
SUMMARY:Themen des 51. TCM-Kongress Rothenburg 2020 der AGTCM
DESCRIPTION:Anmeldung\,  Infos und Programm des TCM-Kongress Rothenburg 202
 0 Auf dem TCM-Kongress Rothenburg 2017 geht es um die Traditionelle Chinesi
 sche Medizin oder genauer um die Die Schule der Mitte\,  Gastro- und Neurog
 astroenterologie\,  Li Gao: Pi Wei Lun Wir wollen mit unserem „TCM Kongre
 ss Rothenburg“ eine breite Palette an Wissen um die[..]\nhttps://www.natu
 rmed.de/blog/events/tcm-kongress-rothenburg-2017/
URL:https://www.naturmed.de/blog/events/tcm-kongress-rothenburg-2017/
END:VEVENT
END:VCALENDAR