BEGIN:VCALENDAR
VERSION:2.0
PRODID:-//eventon.com NONSGML v1.0//EN
CALSCALE:GREGORIAN
METHOD:PUBLISH
BEGIN:VEVENT
UID:69e7d6d142fc9
DTSTAMP:20260421T195809Z
DTSTART:20160428
DTEND:20160429
LOCATION:ABZ München Sandstraße 41\,  80335 München
SUMMARY:TCM-Seminar koreanische SaAm-Akupunktur
DESCRIPTION:Einführung in die koreanische SaAm-Akupunktur Koreanische Vier
 -Nadel-Technik Termin 28.- 30. April 2017 Referent: Dr. Andreas Brüch Fr 1
 6 – 20:30 | Sa 9 – 17:30 | So 9 – 16 Uhr Unterrichtsstunden 22 UE (=C
 redits) Ort Input e. V. | Sandstr. 41 | 80335 München Anreise Teilnehmerza
 hl Maximal 22 Teilnehmerprofil[..]\nhttps://www.naturmed.de/blog/events/ueb
 ungstag-koreanische-saam-akupunktur/
URL:https://www.naturmed.de/blog/events/uebungstag-koreanische-saam-akupunktur/
END:VEVENT
END:VCALENDAR